BEGIN:VCALENDAR
VERSION:2.0
PRODID:-//Morgan Adams Online - ECPv6.15.20//NONSGML v1.0//EN
CALSCALE:GREGORIAN
METHOD:PUBLISH
X-ORIGINAL-URL:https://morganadamsonline.com
X-WR-CALDESC:Events for Morgan Adams Online
REFRESH-INTERVAL;VALUE=DURATION:PT1H
X-Robots-Tag:noindex
X-PUBLISHED-TTL:PT1H
BEGIN:VTIMEZONE
TZID:UTC
BEGIN:STANDARD
TZOFFSETFROM:+0000
TZOFFSETTO:+0000
TZNAME:UTC
DTSTART:20230101T000000
END:STANDARD
END:VTIMEZONE
BEGIN:VTIMEZONE
TZID:America/Chicago
BEGIN:DAYLIGHT
TZOFFSETFROM:-0600
TZOFFSETTO:-0500
TZNAME:CDT
DTSTART:20230312T080000
END:DAYLIGHT
BEGIN:STANDARD
TZOFFSETFROM:-0500
TZOFFSETTO:-0600
TZNAME:CST
DTSTART:20231105T070000
END:STANDARD
BEGIN:DAYLIGHT
TZOFFSETFROM:-0600
TZOFFSETTO:-0500
TZNAME:CDT
DTSTART:20240310T080000
END:DAYLIGHT
BEGIN:STANDARD
TZOFFSETFROM:-0500
TZOFFSETTO:-0600
TZNAME:CST
DTSTART:20241103T070000
END:STANDARD
BEGIN:DAYLIGHT
TZOFFSETFROM:-0600
TZOFFSETTO:-0500
TZNAME:CDT
DTSTART:20250309T080000
END:DAYLIGHT
BEGIN:STANDARD
TZOFFSETFROM:-0500
TZOFFSETTO:-0600
TZNAME:CST
DTSTART:20251102T070000
END:STANDARD
END:VTIMEZONE
BEGIN:VEVENT
DTSTART;TZID=UTC:20260110T100000
DTEND;TZID=UTC:20260111T170000
DTSTAMP:20260424T071141
CREATED:20251222T193152Z
LAST-MODIFIED:20251222T193152Z
UID:1523-1768039200-1768150800@morganadamsonline.com
SUMMARY:Cape Coral Art Festival - 2026
DESCRIPTION:Join me January 10\, 2026\, at the\nCape Coral Art Festival!\n \nBooth 115 & 116
URL:https://morganadamsonline.com/events/cape-coral-art-festival-2026/
END:VEVENT
BEGIN:VEVENT
DTSTART;VALUE=DATE:20250614
DTEND;VALUE=DATE:20250616
DTSTAMP:20260424T071141
CREATED:20250321T003428Z
LAST-MODIFIED:20250321T003428Z
UID:1406-1749859200-1750031999@morganadamsonline.com
SUMMARY:Summer Arts Festival
DESCRIPTION:Homecoming at the Summer Arts Festival in Lake Bluff! \nLake Bluff has always been a special place for me\, and I’m beyond excited to return to my hometown for the Summer Arts Festival by Artists on the Bluff! This two-day celebration of creativity brings together talented artists\, live music\, and a vibrant community in the heart of Lake Bluff. \n📅 Dates: June 14 & 15\, 2025📍 Where: Downtown Lake Bluff\, IL🎨 Hosted by: Artists on the Bluff \nThis festival holds a special place in my heart\, and I can’t wait to share my latest work with you in a setting that feels like home. Whether you’re a longtime supporter or just discovering my art\, I’d love for you to stop by\, say hello\, and immerse yourself in a weekend of inspiration. \nSee you there! 🌊🎨✨
URL:https://morganadamsonline.com/events/summer-arts-festival/
LOCATION:Village Green\, 40 E. Center Ave.\, Lake Bluff\, Illinois\, 60087
END:VEVENT
BEGIN:VEVENT
DTSTART;VALUE=DATE:20250516
DTEND;VALUE=DATE:20250519
DTSTAMP:20260424T071141
CREATED:20250208T214752Z
LAST-MODIFIED:20250301T150407Z
UID:1395-1747353600-1747612799@morganadamsonline.com
SUMMARY:23rd Art on the Square - Belleville\, IL
DESCRIPTION:Join Me at Art on the Square in Belleville\, IL! \nI’m thrilled to announce that I’ll be showcasing my artwork for the first time at Art on the Square in Belleville\, Illinois! This award-winning fine art festival brings together incredible artists from across the country\, and I’m honored to be a part of it. \n📅 Dates: May 13 & 14\n📍 Location: Downtown Belleville\, IL\n🎨 Event Website: Art on the Square | Belleville Illinois Fine Art Show \nCome explore my latest pieces\, chat about art\, and enjoy a weekend filled with creativity\, live entertainment\, and fantastic food. Whether you’re a longtime supporter or new to my work\, I’d love to see you there! \nMark your calendars and stop by to say hello! 😊
URL:https://morganadamsonline.com/events/67th-art-on-the-square-belleville-il/
END:VEVENT
BEGIN:VEVENT
DTSTART;TZID=UTC:20241011T170000
DTEND;TZID=UTC:20241011T200000
DTSTAMP:20260424T071141
CREATED:20240908T001253Z
LAST-MODIFIED:20241121T191354Z
UID:1131-1728666000-1728676800@morganadamsonline.com
SUMMARY:Art in the Park - Highland\, IL Booth #30
DESCRIPTION:Art in the Park – October 11-13\, 2024 – Lindendale Park – Highland\, Illinois\n\n\n\nArt in the Park\n\n\n\n\n\n\n\n\n\nBe the First to See the Artwork in 2024\nWe are mixing it up this year…with a Happy Hour Arts Reception on October 11 prior to the two-day indoor and outdoor art show.  The event is for pre-pledge VIP supporters (that’s you) and sponsors to see and/or buy before the show opens to the general public. \nYOU and a GUEST become VIP supporters by pledging dollars ($100-$500) that you plan to spend at Art in the Park plus $25 for two to attend the Happy Hour Arts Reception. Your pre-pledge plus $25 allows you and a guest to attend the Happy Hour Arts Reception on October 11 from 5 pm – 8 pm AND get ‘Art Bucks’ equaling the money you pledged ($100-500) to buy art! \nYou and a guest may attend; enjoy delicious hors d’oeuvres and wine served throughout the evening as you talk to artists; listen to live music by the SIUE Jazz Band; and spend your ‘Art Bucks’ equaling your pre-pledge dollars with any of the 65 artists throughout the show! \nThank you for making us 20-years strong! Because of your support\, Art in the Park continues to be the fun\, high-quality\, family-friendly event.  To see online representations of the artists’ work\, go to www.highlandartscouncil.org. \nThe Happy Hour Arts Reception is sponsored by Edward Jones financial advisers: Matt Armentrout\, Kevin Dewaele\, DeAnna Bolt\, and Brian Becker. \nRegister online at www.highlandartscouncil.org. Or call Lynnette Schuepbach at 618-558-0054 or                                                                                                                 make checks payable to ‘Highland Arts Council\,’ noting ‘Happy Hour pre-pledge’ in the memo line\, and mail to: Highland Arts Council\, PO Box 33\, Highland\, IL 62249. \nAfter we receive your pre-pledge dollars\, your Happy Hour invitation will be mailed to you. ‘Art Bucks’ in the amount of your pre-pledge dollars may be picked up at the Happy Hour Arts Reception or at the Hospitality Booth at any time during the show. \nSign up soon…and we hope to see you at the 20th Art in the Park! \nYou receive: \n\nThe opportunity for you and a guest to view artwork from over 60 booths on Friday before opening to the general public!\nComplimentary delicious refreshments will be served during the reception as you visit the artists\nLive entertainment by the SIUE Jazz Band\nIntimate conversations with your favorite artists\n‘Art Bucks’ equaling your pre-pledge dollars to spend any time during the show! (Fri-Sun)\n\nWhat you need to do: \n\nPledge a minimum of $100 dollars or the money you plan to spend at Art in the Park plus $25 for the party.\n\nAfter we receive your pre-pledge dollars\, your Happy Hour Arts Reception invitation will be mailed to you. ‘Art Bucks’ in the amount of your pre-pledge dollars may be picked up at the Happy Hour Arts Reception or any time during the show. \nTo take advantage of this unique opportunity\, call 618-558-0054 or mail your check to Highland Arts Council\, PO Box 33\, Highland\, IL 62249. Write Happy Hour on the check. Or click the button below. \nYou Could Win $500 to Buy Art\n\n\n\n\n\n\nBy purchasing one of our raffle tickets\, you have the opportunity to win $500 in art. If your name is drawn\, you may choose up to $500 worth of art from the exhibiting artists – from one artist or from multiple artists – one piece of art or as many as you can purchase for $500. \nIf your name is not drawn\, you still win by supporting the Highland Arts Council’s mission to bring arts to the community and surrounding areas. Tickets are $5/ticket or 5 for $20.  Raffle tickets will be available from any HAC member or call 618-558-0054 for tickets. \n\n\n\n\n\n\n\n\n\n\nHighland\, Illinois is a unique blend of rural farming and the entrepreneurial spirit. It is a town proud of its Swiss heritage and dedicated to maintaining its hometown atmosphere. \nLocated just 35 miles from St. Louis\, Highland’s Lindendale Park is the ideal weekend haven… a place to take shelter from the feverish pace of everyday life\, where you are surrounded by trees\, not buildings. \nThe vibrant colors of Autumn provide the perfect canvas to paint a relaxing weekend filled with delicious food and demonstrations\, exciting entertainment\, wine tasting and loads of fun and creative activities for kids of all ages. \nLindendale Park is also a tranquil setting for artists to display their works of fine art. While festival attendees shop for works of art in twelve categories\, they can also explore various forms of culinary delight at food stands located within Art in the Park. \nHighland offers a convenient and rewarding escape from city living. We invite you to join us for our Annual Art in the Park event! \nThe Art Gallery … Just for Kids is unique to Art in the Park. Our artists donate to the gallery in which children ages 5-18 can purchase any item for $5. It’s a marvelous way to show children the joy of owning art. \nSounds like a great Autumn weekend of art\, food\, music and fun for the whole family\, doesn’t it? \n\n\n\n\n\n\nSCHEDULE OF EVENTS:\nFriday\, October 11\, 2024 \n\n5 pm -8 pm       Happy Hour Arts Reception for Artists\, Sponsors and V.I.P. Guests\n\nSaturday\, October 12\, 2024 \n\n10 am – 5 pm Exhibits Open\n10 am – 5 pm Art Gallery – Just for Kids\n11 am – 4 pm Kids Kreation Area Open\n11 am – 4 pm Performing Arts\n\nSunday\, October 13\, 2024 \n\n11 am – 4 pm   Exhibits Open\n11 am – 3 pm   Art Gallery – Just for Kids\n11 am – 3 pm   Performing Arts\n11 am – 3 pm   Kids Kreation Area Open\n\nDirections
URL:https://morganadamsonline.com/events/art-in-the-park-highland-il-booth-30/
LOCATION:Lindendale Park\, Lindenthal Ave & Park Hill Dr\, HIghland\, IL\, 62249\, United States
END:VEVENT
BEGIN:VEVENT
DTSTART;TZID=America/Chicago:20240921T100000
DTEND;TZID=America/Chicago:20240921T180000
DTSTAMP:20260424T071141
CREATED:20240908T000127Z
LAST-MODIFIED:20241121T191249Z
UID:1128-1726912800-1726941600@morganadamsonline.com
SUMMARY:50th Annual Wine & Harvest Festival - Cedarburg\, WI
DESCRIPTION:50th Annual Wine & Harvest Festival\nAs the leaves begin to change and the fresh air turns brisk\, the splendor of autumn is soon to be upon us! To kick-off this beautiful season\, come and celebrate a sweet and savory weekend at the 50th Annual Wine & Harvest Festival in historic downtown Cedarburg presented by Commerce State Bank! The festival opens Saturday\, September 21 from 10:00 am – 6pm (with the Gruber Law Office Main Stage open later that evening until 8:30 pm playing live music) and Sunday\, September 22 from 10 am – 5 pm.
URL:https://morganadamsonline.com/events/50th-annual-wine-harvest-festival-cedarburg-wi/
LOCATION:Cedarburg Festival\, WI\, 53012\, United States
END:VEVENT
BEGIN:VEVENT
DTSTART;TZID=UTC:20240914T130000
DTEND;TZID=UTC:20240914T160000
DTSTAMP:20260424T071141
CREATED:20240913T002114Z
LAST-MODIFIED:20240913T002114Z
UID:1139-1726318800-1726329600@morganadamsonline.com
SUMMARY:Kenosha Public Museum - 25 Years of Creativity Lemon Street Gallery
DESCRIPTION:Celebrate 25 years of creativity with Lemon Street Gallery with an exhibit reception at the Kenosha Public Museum! \n  \nCome see the wonderful works by Lemon Street’s amazing local artists in this truly unique experience you’re going to want to see. \n  \n2:00 PM – 4:00 PM \nKenosha Public Museum \n5500 1st Ave. Kenosha\, WI\, 53140
URL:https://morganadamsonline.com/events/kenosha-public-museum-25-years-of-creativity-lemon-street-gallery/
LOCATION:Kenosha Public Museum\, 5500 1st Ave.\, Kenosha\, Wisconsin\, 53140
END:VEVENT
BEGIN:VEVENT
DTSTART;VALUE=DATE:20240901
DTEND;VALUE=DATE:20240903
DTSTAMP:20260424T071141
CREATED:20231230T012616Z
LAST-MODIFIED:20240221T153856Z
UID:756-1725148800-1725321599@morganadamsonline.com
SUMMARY:Art Fair on the Square - Lake Forest
DESCRIPTION:I may not be showing\, but I’ll be there! 😉
URL:https://morganadamsonline.com/events/art-fair-on-the-square-lake-forest/
LOCATION:Lake Forest Market Square
END:VEVENT
BEGIN:VEVENT
DTSTART;VALUE=DATE:20240803
DTEND;VALUE=DATE:20240805
DTSTAMP:20260424T071141
CREATED:20240804T043705Z
LAST-MODIFIED:20240804T043705Z
UID:1123-1722643200-1722815999@morganadamsonline.com
SUMMARY:Adler Festival of the Arts
DESCRIPTION:Come join us at the Adler Center’s Festival of the Arts!
URL:https://morganadamsonline.com/events/adler-festival-of-the-arts/
LOCATION:Cook Memorial Park\, Libertyville\, United States
END:VEVENT
BEGIN:VEVENT
DTSTART;TZID=America/Chicago:20240116T170000
DTEND;TZID=America/Chicago:20240116T190000
DTSTAMP:20260424T071141
CREATED:20240109T024433Z
LAST-MODIFIED:20240109T024943Z
UID:819-1705424400-1705431600@morganadamsonline.com
SUMMARY:Deer Path Art League - Member's Show "On Fire"
DESCRIPTION:Join us at The Gallery for a captivating experience at the 2024 Member’s Show\, titled “On Fire.” \nThis exhibition\, presented by The Deer Path Art League\, will run from January 11th to March 2nd\, with an enticing Opening Reception on January 16th from 5:00-7:00 PM. \nImmerse yourself in the vibrant world of “Red\,” as showcased by our talented members. This powerful hue symbolizes passion\, energy\, and power\, evoking a range of emotions. It prompts action\, stimulates hearts\, and embodies both luxury and confidence\, while also hinting at danger and aggression. \nWe invite the public to witness the diverse interpretations of “On Fire” by our skilled artists. Explore the many shades of red as they bring their creativity to life\, expressing the depth of this bold and striking color. \nSold pieces can be picked up at the end of the exhibition.
URL:https://morganadamsonline.com/events/deer-path-art-leagues-members-show-on-fire/
LOCATION:The Gallery Lake Forest\, 202 Wisconsin Ave.\, Lake Forest\, IL\, 60045\, United States
END:VEVENT
END:VCALENDAR